BEGIN:VCALENDAR
VERSION:2.0
PRODID:-//Tukios.com/
BEGIN:VEVENT
UID:e7ae044a-0dd2-43af-8fde-8307558dc8f8@www.nampafuneralhome.com
DTSTAMP:20260422T212343Z
DTSTART:20260424T230000Z
DTEND:20260425T000000Z
SUMMARY:Viewing
DESCRIPTION:
URL:https://www.nampafuneralhome.com/obituaries/cruz-lopez
LOCATION:Nampa Funeral Home - Yraguen Chapel 415 12th Ave S  Nampa ID 
	83651
GEO:43.5762814;-116.5636696
END:VEVENT
END:VCALENDAR