BEGIN:VCALENDAR
VERSION:2.0
PRODID:-//Tukios.com/
BEGIN:VEVENT
UID:6c3bc5a5-6f42-42a4-aaae-7dce7521d819@www.nampafuneralhome.com
DTSTAMP:20260422T212331Z
DTSTART:20260429T170000Z
DTEND:20260429T180000Z
SUMMARY:Burial
DESCRIPTION:
URL:https://www.nampafuneralhome.com/obituaries/cruz-lopez
LOCATION:Mount Calvary Cemetery South Powerline Road  Nampa ID 83686
GEO:43.5478327;-116.5522385
END:VEVENT
END:VCALENDAR