BEGIN:VCALENDAR
VERSION:2.0
PRODID:-//Tukios.com/
BEGIN:VEVENT
UID:50c63ce1-d651-47a3-809b-144fec4dc4b3@www.nampafuneralhome.com
DTSTAMP:20260421T190056Z
DTSTART:20260424T170000Z
DTEND:20260424T180000Z
SUMMARY:Funeral Service
DESCRIPTION:
URL:https://www.nampafuneralhome.com/obituaries/lucille-marler
LOCATION: 415 12th Ave S  Nampa ID 83651
GEO:43.5762814;-116.5636696
END:VEVENT
END:VCALENDAR