BEGIN:VCALENDAR
VERSION:2.0
PRODID:-//Tukios.com/
BEGIN:VEVENT
UID:a454d25a-316c-41c5-9a8c-22b4bfd8c426@www.nampafuneralhome.com
DTSTAMP:20260421T190548Z
DTSTART:20260424T190000Z
DTEND:20260424T200000Z
SUMMARY:Burial
DESCRIPTION:
URL:https://www.nampafuneralhome.com/obituaries/lucille-marler
LOCATION: 15862 Indiana Avenue  Caldwell ID 83607
GEO:43.6031403;-116.6723622
END:VEVENT
END:VCALENDAR