BEGIN:VCALENDAR
VERSION:2.0
PRODID:-//Tukios.com/
BEGIN:VEVENT
UID:c1b1741e-8c9d-47c1-8c5d-965fddff6c63@www.nampafuneralhome.com
DTSTAMP:20260422T190535Z
DTSTART:20260501T170000Z
DTEND:20260501T180000Z
SUMMARY:Memorial Service
DESCRIPTION:
URL:https://www.nampafuneralhome.com/obituaries/mildred-neher
LOCATION: 404 Nectarine Street  Nampa ID 83686
GEO:43.5653397;-116.5710088
END:VEVENT
END:VCALENDAR